BEGIN:VCALENDAR
VERSION:2.0
PRODID:-//City of Trussville - ECPv5.7.0//NONSGML v1.0//EN
CALSCALE:GREGORIAN
METHOD:PUBLISH
X-WR-CALNAME:City of Trussville
X-ORIGINAL-URL:https://trussville.org
X-WR-CALDESC:Events for City of Trussville
BEGIN:VTIMEZONE
TZID:America/Chicago
BEGIN:DAYLIGHT
TZOFFSETFROM:-0600
TZOFFSETTO:-0500
TZNAME:CDT
DTSTART:20260308T080000
END:DAYLIGHT
BEGIN:STANDARD
TZOFFSETFROM:-0500
TZOFFSETTO:-0600
TZNAME:CST
DTSTART:20261101T070000
END:STANDARD
END:VTIMEZONE
BEGIN:VEVENT
DTSTART;TZID=America/Chicago:20260228T090000
DTEND;TZID=America/Chicago:20260228T120000
DTSTAMP:20260420T034519
CREATED:20251219T143701Z
LAST-MODIFIED:20251219T143733Z
UID:10848-1772269200-1772280000@trussville.org
SUMMARY:Arbor Day Celebration
DESCRIPTION:This will be held at the Mall Pavilion from 9 AM to 12 PM.  We will be giving away trees and Ace Tree Company will be donating and planting the annual Celebratory Arbor Day Tree with the Girl Scouts. \nEducational materials provided by Alabama Forestry will also be handed out to the children.
URL:https://trussville.org/event/arbor-day/
LOCATION:Trussville Mall
CATEGORIES:City Events
END:VEVENT
END:VCALENDAR