BEGIN:VCALENDAR
VERSION:2.0
PRODID:-//City of Trussville - ECPv5.7.0//NONSGML v1.0//EN
CALSCALE:GREGORIAN
METHOD:PUBLISH
X-WR-CALNAME:City of Trussville
X-ORIGINAL-URL:https://trussville.org
X-WR-CALDESC:Events for City of Trussville
BEGIN:VTIMEZONE
TZID:America/Chicago
BEGIN:DAYLIGHT
TZOFFSETFROM:-0600
TZOFFSETTO:-0500
TZNAME:CDT
DTSTART:20260308T080000
END:DAYLIGHT
BEGIN:STANDARD
TZOFFSETFROM:-0500
TZOFFSETTO:-0600
TZNAME:CST
DTSTART:20261101T070000
END:STANDARD
END:VTIMEZONE
BEGIN:VEVENT
DTSTART;VALUE=DATE:20260703
DTEND;VALUE=DATE:20260704
DTSTAMP:20260420T062722
CREATED:20250108T201826Z
LAST-MODIFIED:20260106T160928Z
UID:9952-1783036800-1783123199@trussville.org
SUMMARY:Closed - Independence Day
DESCRIPTION:
URL:https://trussville.org/event/closed-independence-day-3/
CATEGORIES:City Events
END:VEVENT
END:VCALENDAR