BEGIN:VCALENDAR
VERSION:2.0
PRODID:-//City of Trussville - ECPv5.7.0//NONSGML v1.0//EN
CALSCALE:GREGORIAN
METHOD:PUBLISH
X-WR-CALNAME:City of Trussville
X-ORIGINAL-URL:https://trussville.org
X-WR-CALDESC:Events for City of Trussville
BEGIN:VTIMEZONE
TZID:America/Chicago
BEGIN:DAYLIGHT
TZOFFSETFROM:-0600
TZOFFSETTO:-0500
TZNAME:CDT
DTSTART:20260308T080000
END:DAYLIGHT
BEGIN:STANDARD
TZOFFSETFROM:-0500
TZOFFSETTO:-0600
TZNAME:CST
DTSTART:20261101T070000
END:STANDARD
END:VTIMEZONE
BEGIN:VEVENT
DTSTART;VALUE=DATE:20261111
DTEND;VALUE=DATE:20261112
DTSTAMP:20260420T133712
CREATED:20250108T201944Z
LAST-MODIFIED:20260106T153209Z
UID:9956-1794355200-1794441599@trussville.org
SUMMARY:Closed - Veterans Day
DESCRIPTION:
URL:https://trussville.org/event/closed-veterans-day-3/
CATEGORIES:City Events
END:VEVENT
BEGIN:VEVENT
DTSTART;TZID=America/Chicago:20261111T160000
DTEND;TZID=America/Chicago:20261111T190000
DTSTAMP:20260420T133712
CREATED:20170213T222156Z
LAST-MODIFIED:20250107T214936Z
UID:9429-1794412800-1794423600@trussville.org
SUMMARY:Municipal Court
DESCRIPTION:
URL:https://trussville.org/event/municipal-court-2020-08-12-2023-01-18__trashed/2026-11-11/
CATEGORIES:Municipal Court
END:VEVENT
END:VCALENDAR