BEGIN:VCALENDAR
VERSION:2.0
PRODID:-//City of Trussville - ECPv5.7.0//NONSGML v1.0//EN
CALSCALE:GREGORIAN
METHOD:PUBLISH
X-WR-CALNAME:City of Trussville
X-ORIGINAL-URL:https://trussville.org
X-WR-CALDESC:Events for City of Trussville
BEGIN:VTIMEZONE
TZID:America/Chicago
BEGIN:DAYLIGHT
TZOFFSETFROM:-0600
TZOFFSETTO:-0500
TZNAME:CDT
DTSTART:20260308T080000
END:DAYLIGHT
BEGIN:STANDARD
TZOFFSETFROM:-0500
TZOFFSETTO:-0600
TZNAME:CST
DTSTART:20261101T070000
END:STANDARD
END:VTIMEZONE
BEGIN:VEVENT
DTSTART;TZID=America/Chicago:20260514T120000
DTEND;TZID=America/Chicago:20260514T150000
DTSTAMP:20260420T053108
CREATED:20170213T222156Z
LAST-MODIFIED:20260105T153928Z
UID:7833-1778760000-1778770800@trussville.org
SUMMARY:Municipal Court
DESCRIPTION:
URL:https://trussville.org/event/municipal-court-2020-08-12-2026-04-29/
CATEGORIES:Municipal Court
END:VEVENT
END:VCALENDAR